BEGIN:VCALENDAR
VERSION:2.0
PRODID:-//ASPAI - ECPv6.15.18//NONSGML v1.0//EN
CALSCALE:GREGORIAN
METHOD:PUBLISH
X-WR-CALNAME:ASPAI
X-ORIGINAL-URL:https://aspai.pe
X-WR-CALDESC:Eventos para ASPAI
REFRESH-INTERVAL;VALUE=DURATION:PT1H
X-Robots-Tag:noindex
X-PUBLISHED-TTL:PT1H
BEGIN:VTIMEZONE
TZID:America/Lima
BEGIN:STANDARD
TZOFFSETFROM:-0500
TZOFFSETTO:-0500
TZNAME:-05
DTSTART:20220101T000000
END:STANDARD
END:VTIMEZONE
BEGIN:VEVENT
DTSTART;TZID=America/Lima:20230615T190000
DTEND;TZID=America/Lima:20230615T200000
DTSTAMP:20260419T084905
CREATED:20230613T195500Z
LAST-MODIFIED:20230613T201105Z
UID:4529-1686855600-1686859200@aspai.pe
SUMMARY:DEMANDA\, INTERÉS Y PROYECCIONES EN EL SECTOR INMOBILIARIO PERUANO ESTE 2023.
DESCRIPTION:👉 En un sector tan competitivo como el inmobiliario\, no basta con solo brindar una amplia cartera de inmuebles\, sino también\, saber diferenciarse a través de un servicio personalizado\, seguro y confiable. \n  \n👉 Una manera de lograr esta distinción\, es entendiendo cuáles son las preocupaciones y preferencias del consumidor\, así como las tendencias que transforman la demanda. \n  \nEs por eso que La Asociación Peruana de Agentes Inmobiliarios – ASPAI invita a todos sus Asociados y público en general a nuestro próximo webinar en donde trataremos este importante tema:  «DEMANDA\, INTERÉS Y PROYECCIONES EN EL SECTOR INMOBILIARIO PERUANO ESTE 2023.» \n  \n✅ Expositor: Boris Osterling Grimberg; Empresario inmobiliario\, Licenciado en Economía-Finanzas de Bentley University y  Co-fundador y CEO de Babilonia. \n  \n🗓 Fecha: jueves 15 de junio \n🕐 Hora: 07:00 p.m. \nMedio: ZOOM & en simultaneo por Facebook Live (transmisión en vivo) \nLink para inscribirse: https://bit.ly/45V5VN7 \n  \n💵 Inversión: GRATUITA \n📧 informes@aspai.pe \n🌐www.aspai.pe \n📱 946-222-407 \n. \n. \n. \n#Aspai #Capacitación #Alquileres #sectorinmobiliario #agenteinmobiliario #Arrendamientos #inmobiliaria #bienesraices #realestate #inmuebles #propiedades #alquilerinmueble #ventainmueble #realtor #webinar #arquitectura #construcción #inmobiliarias
URL:https://aspai.pe/evento/demanda-interes-y-proyecciones-en-el-sector-inmobiliario-peruano-este-2023/
CATEGORIES:Capacitación,Capacitación,Eventos ASPAI
ATTACH;FMTTYPE=image/jpeg:https://aspai.pe/wp-content/uploads/2023/06/bf9a8de4-c66b-41c1-aa0e-ce230ad5c4f7-1.jpg
END:VEVENT
BEGIN:VEVENT
DTSTART;TZID=America/Lima:20230622T180000
DTEND;TZID=America/Lima:20230622T190000
DTSTAMP:20260419T084905
CREATED:20230620T230444Z
LAST-MODIFIED:20230621T211101Z
UID:4548-1687456800-1687460400@aspai.pe
SUMMARY:MARKETING DE CONTENIDOS + INTELIGENCIA ARTIFICIAL PARA AGENTES INMOBILIARIOS
DESCRIPTION:El marketing de contenidos y la inteligencia artificial son herramientas poderosas que pueden ayudarnos a nosotros como agentes inmobiliarios a generar leads\, construir nuestra marca\, diferenciarnos de la competencia\, automatizar tareas y brindar una experiencia personalizada a nuestros clientes. \nAl aprovechar estas herramientas de manera efectiva\, podemos potenciar nuestro negocio y alcanzar el éxito en el mercado inmobiliario. \n  \nY es por eso que la Asociación Peruana de Agentes Inmobiliarios ASPAI\, te brindará un webinar especial para tratar este importante tema: “MARKETING DE CONTENIDOS + INTELIGENCIA ARTIFICIAL PARA AGENTES INMOBILIARIOS” \n  \nExpositor: Luis Menacho; Agente Inmobiliario | Ing. Sistemas | Co-Fundador de ESEI\, experto en Branding Inmobiliario\, Generador de Leads Inmobiliarios\, especialista en Marketing Digital y Marketing de Contenidos\, Consultor IT con más de 20 años de experiencia en Tecnologías de la Información\, ejerciendo funciones como Docente\, Conferencista\, Ponente\, Consultor\, Coach y Vicepresidente del Comité Organizador de la Convención Anual de Expertos Inmobiliarios CADEI. \n  \nFecha: jueves 22 de junio \nHora: 06:00 p.m. \nMedio: ZOOM & en simultaneo por Facebook Live (transmisión en vivo) \nInscribirse en el siguiente link: https://bit.ly/3XoFBab \nInversión: GRATUITA \ninformes@aspai.pe \nwww.aspai.pe \n946-222-407
URL:https://aspai.pe/evento/marketing-de-contenidos-inteligencia-artificial-para-agentes-inmobiliarios/
CATEGORIES:Capacitación,Capacitación
ATTACH;FMTTYPE=image/jpeg:https://aspai.pe/wp-content/uploads/2023/06/c2092fbb-55d9-4053-8c60-5d1d5b715a53-1.jpg
END:VEVENT
BEGIN:VEVENT
DTSTART;TZID=America/Lima:20230629T190000
DTEND;TZID=America/Lima:20230629T200000
DTSTAMP:20260419T084905
CREATED:20230626T200533Z
LAST-MODIFIED:20230626T200550Z
UID:4556-1688065200-1688068800@aspai.pe
SUMMARY:MARKETING DE CONTENIDOS Y CHAT GPT PARA AGENTES INMOBILIARIOS
DESCRIPTION:👉 Como agentes inmobiliarios\, entender la importancia del marketing de contenidos y el uso de Chat GPT puede ser clave para impulsar nuestro negocio. Por un lado\, el marketing de contenidos nos permite establecer nuestra experiencia y conocimientos en el campo\, compartiendo información útil y educativa\, creando confianza y credibilidad. \n  \n👉 Por otro lado\, el Chat GPT es una herramienta poderosa ya que proporciona información sobre propiedades disponibles\, brinda consejos personalizados\, y hasta realiza simulaciones de precios y financiamiento. \n  \nY es por eso que la Asociación Peruana de Agentes Inmobiliarios ASPAI\, te brindará un webinar especial para tratar este importante tema: “MARKETING DE CONTENIDOS Y CHAT GPT PARA AGENTES INMOBILIARIOS” \n  \n✅ Expositor:  CARLOS MENACHO AGUIRRE; CEO y Socio Fundador de MBG PERÚ S.A.C. \nDirector General de la Escuela Superior de Expertos Inmobiliarios – ESEI. \nBroker Owner de RE/MAX SMART. Coordinador responsable de los cursos de agente inmobiliario en los Institutos ITAE y Génova. \nDocente del Instituto de Informática de la Pontificia Universidad Católica del Perú – PUCP. \nCoach especialista en Marketing Digital\, Marketing\, Gestión Empresarial\, Herramientas informáticas. Agente Inmobiliario Registrado (MVCS-PN – 9107) \n  \n🗓️ FECHA: jueves 29 de junio \n🕖 HORA: 07:00 p.m. \n👉 Medio: ZOOM & en simultaneo por Facebook Live (transmisión en vivo) \n👉 Inscribirse en el siguiente link: https://bit.ly/3pnXUje \nInversión: GRATUITA \ninformes@aspai.pe \n946-222-407. \n  \n  \n 
URL:https://aspai.pe/evento/marketing-de-contenidos-y-chat-gpt-para-agentes-inmobiliarios/
CATEGORIES:Capacitación,Capacitación,Eventos ASPAI
ATTACH;FMTTYPE=image/jpeg:https://aspai.pe/wp-content/uploads/2023/06/2dbabbe8-ce6f-4c6c-8699-e25b36832800.jpg
END:VEVENT
END:VCALENDAR