BEGIN:VCALENDAR
VERSION:2.0
PRODID:-//ASPAI - ECPv6.15.18//NONSGML v1.0//EN
CALSCALE:GREGORIAN
METHOD:PUBLISH
X-WR-CALNAME:ASPAI
X-ORIGINAL-URL:https://aspai.pe
X-WR-CALDESC:Eventos para ASPAI
REFRESH-INTERVAL;VALUE=DURATION:PT1H
X-Robots-Tag:noindex
X-PUBLISHED-TTL:PT1H
BEGIN:VTIMEZONE
TZID:America/Lima
BEGIN:STANDARD
TZOFFSETFROM:-0500
TZOFFSETTO:-0500
TZNAME:-05
DTSTART:20230101T000000
END:STANDARD
END:VTIMEZONE
BEGIN:VEVENT
DTSTART;TZID=America/Lima:20240201T183000
DTEND;TZID=America/Lima:20240201T193000
DTSTAMP:20260421T155609
CREATED:20240129T210801Z
LAST-MODIFIED:20240201T190227Z
UID:5103-1706812200-1706815800@aspai.pe
SUMMARY:VISUALIZA GRATIS LA INFORMACIÓN DE TU PREDIO INSCRITO
DESCRIPTION:🔊 Tener un predio inscrito no solo brinda seguridad y protección legal\, sino que también abre puertas a oportunidades financieras y facilita las transacciones inmobiliarias\, contribuyendo así al desarrollo y ordenamiento del sector.\nAccede de manera gratuita a la información de tu propiedad registrada. Visualiza todos los detalles de tu predio sin costo alguno. \n🔊 La Asociación Peruana de Agentes Inmobiliarios ASPAI\, te brindará un webinar especial para tratar este importante tema: “VISUALIZA GRATIS LA INFORMACIÓN DE TU PREDIO INSCRITO» \n✅ Expositor: Fernando Arias Azabache\nIngeniero geógrafo de la Facultad de Ingeniería Geográfica de la Universidad Nacional Federico Villarreal. Consultor en diversas instituciones públicas.\nActualmente labora desde hace 22 años en la subdirección de base gráfica registral de la SUNARP – sede central. \n🗓️ Fecha: jueves 01 de febrero\n🕗 Hora: 06:30 p.m. Perú\nMedio: ZOOM & en simultaneo por Facebook Live (transmisión en vivo)\nInversión: GRATUITA\ninformes@aspai.pe\n946-222-407\nwww.aspai.pe \nInscribirse en el siguiente enlace: https://goo.su/jz78tfb\n.\n.\n.\n#aspai #Capacitación #Alquileres #arrendamientos #Webinar
URL:https://aspai.pe/evento/visualiza-gratis-la-informacion-de-tu-predio-inscrito/
CATEGORIES:Capacitación,Capacitación,Eventos ASPAI,Eventos del Sector
ATTACH;FMTTYPE=image/jpeg:https://aspai.pe/wp-content/uploads/2024/01/424569542_877618084371308_7028084877127817411_n.jpg
END:VEVENT
BEGIN:VEVENT
DTSTART;TZID=America/Lima:20240215T140000
DTEND;TZID=America/Lima:20240215T150000
DTSTAMP:20260421T155609
CREATED:20240206T010738Z
LAST-MODIFIED:20240207T144536Z
UID:5136-1708005600-1708009200@aspai.pe
SUMMARY:TRANSFORMACIÓN DIGITAL INMOBILIARIA
DESCRIPTION:🔊 La transformación digital inmobiliaria se basa en la adopción de tecnologías para optimizar los procesos relacionados con bienes raíces. \n  \nEsta transformación implica herramientas para aumentar la eficiencia\, la transparencia y la experiencia del cliente en el mercado. \n  \n🔊 ASPAI brindará un webinar internacional para tratar este importante tema: TRANSFORMACIÓN DIGITAL INMOBILIARIA \n  \n✅ Expositora: Anna Puigdevall \nDirectora General de la Asociación de Agentes Inmobiliarios de Catalunya\, España \n  \n🗓️ Fecha: jueves 15 de febrero \n🕧 Hora: 1:00 pm México / 2:00 pm Perú / 8:00 pm España \n💻 Medio: Zoom y Facebook Live \n  \nInscripción en el siguiente link: https://bit.ly/4bp6Qbk \n  \ninformes@aspai.pe \n946-222-407 \nwww.aspai.pe \n. \n. \n#aspai #Capacitación #Alquileres #arrendamientos #Webinar
URL:https://aspai.pe/evento/transformacion-digital-inmobiliaria/
CATEGORIES:Capacitación,Capacitación,Eventos ASPAI,Eventos del Sector
ATTACH;FMTTYPE=image/jpeg:https://aspai.pe/wp-content/uploads/2024/02/ee2dbf1a-d709-4b56-858c-8967b2e136ea.jpg
END:VEVENT
BEGIN:VEVENT
DTSTART;TZID=America/Lima:20240222T190000
DTEND;TZID=America/Lima:20240222T200000
DTSTAMP:20260421T155609
CREATED:20240220T004849Z
LAST-MODIFIED:20240220T004849Z
UID:5157-1708628400-1708632000@aspai.pe
SUMMARY:DL 1568\, NUEVA LEY DE PROPIEDAD HORIZONTAL
DESCRIPTION:– El DL 1568 establece normas sobre la constitución\, administración\, mantenimiento y disolución de las propiedades horizontales\, así como los derechos y obligaciones de los propietarios de las unidades\, la administración del condominio\, las áreas comunes\, entre otros aspectos relacionados.\nEsta ley busca regular la propiedad horizontal\, es decir\, la división de un inmueble en unidades independientes que pertenecen a diferentes propietarios\, como departamentos en un edificio. \nASPAI brindará un webinar internacional para tratar este importante tema: DL 1568\, NUEVA LEY DE PROPIEDAD HORIZONTAL \n✅ Expositor: Marco Gastelo\, Agente inmobiliario\, de seguros. Conciliador extrajudicial en lo civil y familia.\nMaestría en gobierno y gestión pública para América Latina en la UPF España. Maestría en educación superior en investigación \nFecha: jueves 22 de febrero\nHora: 6:00 pm México / 7:00 pm Perú\nMedio: Zoom y Facebook Live \nEnlace de inscripción: https://bit.ly/4bHwTus
URL:https://aspai.pe/evento/dl-1568-nueva-ley-de-propiedad-horizontal/
CATEGORIES:Capacitación,Capacitación,Eventos ASPAI
ATTACH;FMTTYPE=image/jpeg:https://aspai.pe/wp-content/uploads/2024/02/d96688c4-d4c9-4f4d-8b8e-d33d7fa28cb1.jpg
END:VEVENT
END:VCALENDAR