BEGIN:VCALENDAR
VERSION:2.0
PRODID:-//ASPAI - ECPv6.15.18//NONSGML v1.0//EN
CALSCALE:GREGORIAN
METHOD:PUBLISH
X-ORIGINAL-URL:https://aspai.pe
X-WR-CALDESC:Eventos para ASPAI
REFRESH-INTERVAL;VALUE=DURATION:PT1H
X-Robots-Tag:noindex
X-PUBLISHED-TTL:PT1H
BEGIN:VTIMEZONE
TZID:America/Lima
BEGIN:STANDARD
TZOFFSETFROM:-0500
TZOFFSETTO:-0500
TZNAME:-05
DTSTART:20230101T000000
END:STANDARD
END:VTIMEZONE
BEGIN:VEVENT
DTSTART;TZID=America/Lima:20240314T170000
DTEND;TZID=America/Lima:20240314T180000
DTSTAMP:20260421T171517
CREATED:20240227T181826Z
LAST-MODIFIED:20240227T185855Z
UID:5175-1710435600-1710439200@aspai.pe
SUMMARY:10 EL ASESOR INMOBILIARIO PERFECTO
DESCRIPTION:El asesor inmobiliario perfecto es aquel que ofrece un servicio profesional\, ético y personalizado\, centrado en las necesidades y objetivos de sus clientes\, y que posee las habilidades y el conocimiento necesarios para guiarlos a través de todo el proceso de transacción inmobiliaria de manera exitosa. \n  \nASPAI los invita a su siguiente webinar internacional “10 EL ASESOR INMOBILIARIO PERFECTO” \n  \n✅ Expositor: Pedro Trueba \nConsultor de asesores y empresas inmobiliarias\, conferencista a nivel internacional\, especialista en temas de ventas para inmobiliarios de liderazgo y motivación. \n  \n🗓️ Fecha: JUEVES 14 DE MARZO \n🕧 Hora: 4:00 p.m. México \n🕗 Hora: 5:00 p.m. Perú \n  \nEnlace de inscripción: https://bit.ly/49rW1Uv
URL:https://aspai.pe/evento/10-el-asesor-inmobiliario-perfecto/
CATEGORIES:Capacitación,Capacitación,Eventos ASPAI,Eventos del Sector
ATTACH;FMTTYPE=image/jpeg:https://aspai.pe/wp-content/uploads/2024/02/fdaec7f6-72cc-4d5d-9075-17dfafb4153c-5.jpg
END:VEVENT
END:VCALENDAR