BEGIN:VCALENDAR
VERSION:2.0
PRODID:-//ASPAI - ECPv6.15.18//NONSGML v1.0//EN
CALSCALE:GREGORIAN
METHOD:PUBLISH
X-ORIGINAL-URL:https://aspai.pe
X-WR-CALDESC:Eventos para ASPAI
REFRESH-INTERVAL;VALUE=DURATION:PT1H
X-Robots-Tag:noindex
X-PUBLISHED-TTL:PT1H
BEGIN:VTIMEZONE
TZID:America/Lima
BEGIN:STANDARD
TZOFFSETFROM:-0500
TZOFFSETTO:-0500
TZNAME:-05
DTSTART:20230101T000000
END:STANDARD
END:VTIMEZONE
BEGIN:VEVENT
DTSTART;TZID=America/Lima:20240404T190000
DTEND;TZID=America/Lima:20240404T200000
DTSTAMP:20260421T182801
CREATED:20240330T161602Z
LAST-MODIFIED:20240404T025527Z
UID:5215-1712257200-1712260800@aspai.pe
SUMMARY:3 HABILIDADES PARA UN LÍDER DE VENTAS INMOBILIARIAS
DESCRIPTION:🔊 Para ser un líder en ventas inmobiliarias\, es importante poseer una combinación de habilidades técnicas\, interpersonales y de gestión. Desarrollar y perfeccionar cada una de ellas\, te ayudarán a destacar como líder en el competitivo mundo de las ventas inmobiliarias. \n  \n🔊 ASPAI te invita a su siguiente webinar: “3 HABILIDADES PARA UN LÍDER DE VENTAS INMOBILIARIAS” \n  \n✅ Expositor: Jheff Ponce \nAmplia experiencia en emprendimientos de los sectores como publicidad\, ferias\, bienes raíces y educación. Autor del libro “PROGRAMA TU MENTE\, PROGRAMA TU ÉXITO” \n  \n🗓️ Fecha: JUEVES 4 DE ABRIL \n🕧 Hora: 6:00 p.m. México \n🕗 Hora: 7:00 p.m. Perú \n  \n  \nMedio: ZOOM & en simultaneo por Facebook Live (transmisión en vivo) \nInversión: GRATUITA \ninformes@aspai.pe \n946-222-407 \nwww.aspai.pe \n  \nInscribirse en el siguiente enlace: https://bit.ly/3xmjc4c \n. \n. \n#aspai #Capacitación #Alquileres #arrendamientos #Webinar
URL:https://aspai.pe/evento/3-habilidades-para-un-lider-de-ventas-inmobiliarias/
CATEGORIES:Capacitación,Capacitación
ATTACH;FMTTYPE=image/jpeg:https://aspai.pe/wp-content/uploads/2024/03/webinaraspai040424.jpg
END:VEVENT
BEGIN:VEVENT
DTSTART;TZID=America/Lima:20240418T170000
DTEND;TZID=America/Lima:20240418T180000
DTSTAMP:20260421T182801
CREATED:20240322T212656Z
LAST-MODIFIED:20240322T212656Z
UID:5207-1713459600-1713463200@aspai.pe
SUMMARY:EL ARTE Y LA CIENCIA EN LA FIJACIÓN DE PRECIOS
DESCRIPTION:🔊 El arte y la ciencia en la fijación de precios son dos facetas complementarias que convergen en el complejo mundo del mercado. La combinación de ambos aspectos es crucial para establecer precios efectivos\, que maximicen el valor para el consumidor y generen rentabilidad para la empresa. \n  \n🔊 ASPAI te invita a su siguiente webinar internacional ‘EL ARTE Y LA CIENCIA EN LA FIJACIÓN DE PRECIOS’ \n  \n✅ Expositor: Camilo Lobo \nExperto en ayudar personas con y sin experiencia a desarrollar un negocio exitoso. Su misión es desarrollar el máximo potencial como agente inmobiliario\, brindando las mejores herramientas y servicios del sector. \n  \n🗓️ Fecha: JUEVES 18 DE ABRIL \n🕧 Hora: 4:00 p.m. México \n🕗 Hora: 5:00 p.m. Perú \n  \nLink de inscripción: https://bit.ly/49YYGFh \n  \n  \ninformes@aspai.pe \n946-222-407 \nwww.aspai.pe \n. \n. \n. \n#Capacitación #precios
URL:https://aspai.pe/evento/el-arte-y-la-ciencia-en-la-fijacion-de-precios/
CATEGORIES:Capacitación,Capacitación,Eventos ASPAI,Eventos del Sector
ATTACH;FMTTYPE=image/jpeg:https://aspai.pe/wp-content/uploads/2024/03/c6f78a9e-fd24-452e-b23b-003d9fc9cb85.jpg
END:VEVENT
END:VCALENDAR